BEGIN:VCALENDAR
METHOD:PUBLISH
VERSION:2.0
PRODID:-//Men's Extension Dinner//Calendar//EN

BEGIN:VEVENT
SUMMARY:North Cobb County | Men's Extension Dinner
DESCRIPTION:
X-ALT-DESC:
UID:Event3860
DTSTART:20190613T223000Z
DTEND:20190614T000000Z
DTSTAMP:20181206T021150Z
LAST-MODIFIED:20181206T021150Z
END:VEVENT

END:VCALENDAR