BEGIN:VCALENDAR
METHOD:PUBLISH
VERSION:2.0
PRODID:-//Kennesaw P&R Veterans' Day Lunch //Calendar//EN

BEGIN:VEVENT
SUMMARY:North Cobb County | Kennesaw P&R Veterans' Day Lunch 
DESCRIPTION: The City of Kennesaw will honor the service of military members past and present with a complimentary lunch on Friday\, November 11 at Noon at the Ben Robertson Community Center\, located at 2753 Watts Drive. All veterans and active-duty military are invited to attend. No identification will be required. NCRC sponsored the lunch.Link to SUG. Veterans sign up for lunch.Rotary 2022 Members: Kennesaw Veterans Day Lunch 11/11 (signupgenius.com)More information at:Veterans Day Luncheon - City of Kennesaw (kennesaw-ga.gov)
X-ALT-DESC:<p><span style="background-color: var(--bs-body-bg); font-size: var(--bs-body-font-size); font-weight: var(--bs-body-font-weight); text-align: var(--bs-body-text-align);">&nbsp;The City of Kennesaw will honor the service of military members past and present with a complimentary lunch on Friday, November 11 at Noon at the Ben Robertson Community Center, located at 2753 Watts Drive.&nbsp;</span><span style="background-color: var(--bs-body-bg); font-size: var(--bs-body-font-size); font-weight: var(--bs-body-font-weight); text-align: var(--bs-body-text-align);">All veterans and active-duty military are invited to attend. No identification will be required. NCRC sponsored the lunch.</span></p><p><span style="background-color: var(--bs-body-bg); font-size: var(--bs-body-font-size); font-weight: var(--bs-body-font-weight); text-align: var(--bs-body-text-align);">Link to SUG. Veterans sign up for lunch.</span></p><p><a href="https://www.signupgenius.com/go/10c0f4ba4a72da7fec61-kennesaw">Rotary 2022 Members: Kennesaw Veterans Day Lunch 11/11 (signupgenius.com)</a><span style="background-color: var(--bs-body-bg); font-size: var(--bs-body-font-size); font-weight: var(--bs-body-font-weight); text-align: var(--bs-body-text-align);"><br></span></p><p><span style="background-color: var(--bs-body-bg); font-size: var(--bs-body-font-size); font-weight: var(--bs-body-font-weight); text-align: var(--bs-body-text-align);">More information at:</span></p><p><a href="https://www.kennesaw-ga.gov/veterans-day-luncheon/#:~:text=Kennesaw%2C%20GA%20%28October%2011%2C%202022%29%20%E2%80%94%20The%20City,invited%20to%20attend.%20No%20identification%20will%20be%20required.">Veterans Day Luncheon - City of Kennesaw (kennesaw-ga.gov)</a><span style="background-color: var(--bs-body-bg); font-size: var(--bs-body-font-size); font-weight: var(--bs-body-font-weight); text-align: var(--bs-body-text-align);"><br></span></p>
UID:Event6550
DTSTART:20221111T140000Z
DTEND:20221111T190000Z
DTSTAMP:20220804T011210Z
LAST-MODIFIED:20221102T231333Z
END:VEVENT

END:VCALENDAR