BEGIN:VCALENDAR
METHOD:PUBLISH
VERSION:2.0
PRODID:-//Volunteer: Acworth Community Garden Workday//Calendar//EN

BEGIN:VEVENT
SUMMARY:North Cobb County | Volunteer: Acworth Community Garden Workday
DESCRIPTION:We will plant collards\, onions\, and do some spring clean-up.  Plus we will take a photo with the mayor in front of the shed we provided funding for.  ALL ARE WELCOME!Link to SUG2023 NCRC Members: 3/11 Acworth Community Garden Workday (signupgenius.com)Date: 03/11/2023 (Sat.)Time: 10:00am - 12:00pm ESTLocation: 4757 School Street\, Acworth\, GA 30101
X-ALT-DESC:<p>We will plant collards, onions, and do some spring clean-up.&nbsp; Plus we will take a photo with the mayor in front of the shed we provided funding for.&nbsp; ALL ARE WELCOME!</p><p>Link to SUG</p><p><a href="https://www.signupgenius.com/go/10c0f4ba4a72da7fec61-311">2023 NCRC Members: 3/11 Acworth Community Garden Workday (signupgenius.com)</a><br></p><p>Date: 03/11/2023 (Sat.)</p><p>Time: 10:00am - 12:00pm EST</p><p>Location: 4757 School Street, Acworth, GA 30101</p>
UID:Event6863
DTSTART:20230311T150000Z
DTEND:20230311T170000Z
DTSTAMP:20230301T203712Z
LAST-MODIFIED:20230301T203712Z
END:VEVENT

END:VCALENDAR