BEGIN:VCALENDAR
METHOD:PUBLISH
VERSION:2.0
PRODID:-//KSU CARES Pantry Restock Day//Calendar//EN

BEGIN:VEVENT
SUMMARY:North Cobb County | KSU CARES Pantry Restock Day
DESCRIPTION:Come and lend a helping hand as we unload the Midwest Food Bank truck and restock the KSU CARES Pantry. The ability to lift and carry up to 25lbs will be needed for this project.Carmichael Student Center\, Room 172SUG: https://www.signupgenius.com/go/10C0F4BA4A72DA7FEC61-57716909-5726#/Parking code is KF359AAI Date05/07/2026 (Thu.) Time1:45PM - 3:30PM EDT LocationCarmichael Student Center395 Cobb Ave Room 172Kennesaw\, GA 30144
X-ALT-DESC:<p><br></p><p>Come and lend a helping hand as we unload the Midwest Food Bank truck and restock the KSU CARES Pantry. The ability to lift and carry up to 25lbs will be needed for this project.</p><p><br></p><p>Carmichael Student Center, Room 172</p><p>SUG:&nbsp;<a href="https://www.signupgenius.com/go/10C0F4BA4A72DA7FEC61-57716909-5726#/" target="_blank">https://www.signupgenius.com/go/10C0F4BA4A72DA7FEC61-57716909-5726#/</a></p><p>Parking code is KF359AAI</p><p><br></p><p> Date05/07/2026 (Thu.)</p><p> Time1:45PM - 3:30PM EDT</p><p> LocationCarmichael Student Center</p><p>395 Cobb Ave Room 172</p><p>Kennesaw, GA 30144</p>
UID:Event9454
DTSTART:20260507T174500Z
DTEND:20260507T193000Z
DTSTAMP:20260422T201718Z
LAST-MODIFIED:20260422T201718Z
END:VEVENT

END:VCALENDAR